BEGIN:VCALENDAR
VERSION:2.0
PRODID:-//Observatorio Clúster Audiovisual Madrid - ECPv6.15.18//NONSGML v1.0//EN
CALSCALE:GREGORIAN
METHOD:PUBLISH
X-WR-CALNAME:Observatorio Clúster Audiovisual Madrid
X-ORIGINAL-URL:https://observatorio.clusteraudiovisualmadrid.es/en/
X-WR-CALDESC:Events for Observatorio Clúster Audiovisual Madrid
REFRESH-INTERVAL;VALUE=DURATION:PT1H
X-Robots-Tag:noindex
X-PUBLISHED-TTL:PT1H
BEGIN:VTIMEZONE
TZID:Europe/Madrid
BEGIN:DAYLIGHT
TZOFFSETFROM:+0100
TZOFFSETTO:+0200
TZNAME:CEST
DTSTART:20250330T010000
END:DAYLIGHT
BEGIN:STANDARD
TZOFFSETFROM:+0200
TZOFFSETTO:+0100
TZNAME:CET
DTSTART:20251026T010000
END:STANDARD
BEGIN:DAYLIGHT
TZOFFSETFROM:+0100
TZOFFSETTO:+0200
TZNAME:CEST
DTSTART:20260329T010000
END:DAYLIGHT
BEGIN:STANDARD
TZOFFSETFROM:+0200
TZOFFSETTO:+0100
TZNAME:CET
DTSTART:20261025T010000
END:STANDARD
BEGIN:DAYLIGHT
TZOFFSETFROM:+0100
TZOFFSETTO:+0200
TZNAME:CEST
DTSTART:20270328T010000
END:DAYLIGHT
BEGIN:STANDARD
TZOFFSETFROM:+0200
TZOFFSETTO:+0100
TZNAME:CET
DTSTART:20271031T010000
END:STANDARD
END:VTIMEZONE
BEGIN:VEVENT
DTSTART;VALUE=DATE:20261020
DTEND;VALUE=DATE:20261026
DTSTAMP:20260423T135649
CREATED:20260422T124122Z
LAST-MODIFIED:20260422T124122Z
UID:4586-1792454400-1792972799@observatorio.clusteraudiovisualmadrid.es
SUMMARY:12ª edición Another Way Film Festival
DESCRIPTION:El Another Way Film Festival es un festival de cine madrileño centrado en el desarrollo sostenible y la transición ecológica. Su programación combina documentales\, ficción y cortometrajes que abordan retos ambientales\, sociales y económicos\, siempre con un enfoque inspirador hacia un futuro más responsable. Además de las proyecciones\, suele incluir charlas\, talleres y actividades para fomentar el activismo\, la innovación y la cultura sostenible.
URL:https://observatorio.clusteraudiovisualmadrid.es/en/evento/12a-edicion-another-way-film-festival-2/
LOCATION:Madrid\, Madrid\, Madrid\, Spain
CATEGORIES:Festival
ORGANIZER;CN="Another Way":MAILTO:produccion@anotherway.es
END:VEVENT
END:VCALENDAR