BEGIN:VCALENDAR
VERSION:2.0
PRODID:-//Observatorio Clúster Audiovisual Madrid - ECPv6.15.18//NONSGML v1.0//EN
CALSCALE:GREGORIAN
METHOD:PUBLISH
X-WR-CALNAME:Observatorio Clúster Audiovisual Madrid
X-ORIGINAL-URL:https://observatorio.clusteraudiovisualmadrid.es/en/
X-WR-CALDESC:Events for Observatorio Clúster Audiovisual Madrid
REFRESH-INTERVAL;VALUE=DURATION:PT1H
X-Robots-Tag:noindex
X-PUBLISHED-TTL:PT1H
BEGIN:VTIMEZONE
TZID:Europe/Madrid
BEGIN:DAYLIGHT
TZOFFSETFROM:+0100
TZOFFSETTO:+0200
TZNAME:CEST
DTSTART:20240331T010000
END:DAYLIGHT
BEGIN:STANDARD
TZOFFSETFROM:+0200
TZOFFSETTO:+0100
TZNAME:CET
DTSTART:20241027T010000
END:STANDARD
BEGIN:DAYLIGHT
TZOFFSETFROM:+0100
TZOFFSETTO:+0200
TZNAME:CEST
DTSTART:20250330T010000
END:DAYLIGHT
BEGIN:STANDARD
TZOFFSETFROM:+0200
TZOFFSETTO:+0100
TZNAME:CET
DTSTART:20251026T010000
END:STANDARD
BEGIN:DAYLIGHT
TZOFFSETFROM:+0100
TZOFFSETTO:+0200
TZNAME:CEST
DTSTART:20260329T010000
END:DAYLIGHT
BEGIN:STANDARD
TZOFFSETFROM:+0200
TZOFFSETTO:+0100
TZNAME:CET
DTSTART:20261025T010000
END:STANDARD
END:VTIMEZONE
BEGIN:VEVENT
DTSTART;VALUE=DATE:20251018
DTEND;VALUE=DATE:20251026
DTSTAMP:20260421T191947
CREATED:20251028T023653Z
LAST-MODIFIED:20251028T023653Z
UID:2498-1760745600-1761436799@observatorio.clusteraudiovisualmadrid.es
SUMMARY:27ª Semana del Cortometraje de la Comunidad de Madrid
DESCRIPTION:Semana de cine y cortometraje organizado por la Comunidad de Madrid. Sección oficial y proyecciones – Actividades formativas y talleres – Foro profesional.
URL:https://observatorio.clusteraudiovisualmadrid.es/en/evento/27a-semana-del-cortometraje-de-la-comunidad-de-madrid/
LOCATION:Madrid\, Madrid\, Madrid\, Spain
CATEGORIES:Festival
ATTACH;FMTTYPE=image/jpeg:https://observatorio.clusteraudiovisualmadrid.es/wp-content/uploads/2025/10/semana-cm-2025.jpg
END:VEVENT
END:VCALENDAR