BEGIN:VCALENDAR
VERSION:2.0
PRODID:-//Observatorio Clúster Audiovisual Madrid - ECPv6.15.18//NONSGML v1.0//EN
CALSCALE:GREGORIAN
METHOD:PUBLISH
X-WR-CALNAME:Observatorio Clúster Audiovisual Madrid
X-ORIGINAL-URL:https://observatorio.clusteraudiovisualmadrid.es/en/
X-WR-CALDESC:Events for Observatorio Clúster Audiovisual Madrid
REFRESH-INTERVAL;VALUE=DURATION:PT1H
X-Robots-Tag:noindex
X-PUBLISHED-TTL:PT1H
BEGIN:VTIMEZONE
TZID:Europe/Madrid
BEGIN:DAYLIGHT
TZOFFSETFROM:+0100
TZOFFSETTO:+0200
TZNAME:CEST
DTSTART:20240331T010000
END:DAYLIGHT
BEGIN:STANDARD
TZOFFSETFROM:+0200
TZOFFSETTO:+0100
TZNAME:CET
DTSTART:20241027T010000
END:STANDARD
BEGIN:DAYLIGHT
TZOFFSETFROM:+0100
TZOFFSETTO:+0200
TZNAME:CEST
DTSTART:20250330T010000
END:DAYLIGHT
BEGIN:STANDARD
TZOFFSETFROM:+0200
TZOFFSETTO:+0100
TZNAME:CET
DTSTART:20251026T010000
END:STANDARD
BEGIN:DAYLIGHT
TZOFFSETFROM:+0100
TZOFFSETTO:+0200
TZNAME:CEST
DTSTART:20260329T010000
END:DAYLIGHT
BEGIN:STANDARD
TZOFFSETFROM:+0200
TZOFFSETTO:+0100
TZNAME:CET
DTSTART:20261025T010000
END:STANDARD
END:VTIMEZONE
BEGIN:VEVENT
DTSTART;VALUE=DATE:20251214
DTEND;VALUE=DATE:20251215
DTSTAMP:20260419T170319
CREATED:20250915T181237Z
LAST-MODIFIED:20250915T181237Z
UID:655-1765670400-1765756799@observatorio.clusteraudiovisualmadrid.es
SUMMARY:31 edición. Premios Forqué 2025
DESCRIPTION:Contribuyendo a la promoción del sector audiovisual español\, premiando a las mejores películas y artistas de la industria desde 1996. Creado por EGEDA para honrar la memoria de José María Forqué\, figura fundamental en la cinematografía española y primer Presidente de EGEDA\, este premio tiene entre sus objetivos fundamentales contribuir a la promoción del sector audiovisual español\, premiando a la película con mayores valores técnicos y artísticos de entre las estrenadas cada año en España. (Fuente: webs Premio Forqué)
URL:https://observatorio.clusteraudiovisualmadrid.es/en/evento/31-edicion-premios-forque-2025/
LOCATION:Madrid\, Madrid\, Madrid\, Spain
CATEGORIES:Premios
ATTACH;FMTTYPE=image/jpeg:https://observatorio.clusteraudiovisualmadrid.es/wp-content/uploads/2025/09/logo-premios-forque-2025.jpg
END:VEVENT
END:VCALENDAR