BEGIN:VCALENDAR
VERSION:2.0
PRODID:-//Observatorio Clúster Audiovisual Madrid - ECPv6.15.18//NONSGML v1.0//EN
CALSCALE:GREGORIAN
METHOD:PUBLISH
X-WR-CALNAME:Observatorio Clúster Audiovisual Madrid
X-ORIGINAL-URL:https://observatorio.clusteraudiovisualmadrid.es/en/
X-WR-CALDESC:Events for Observatorio Clúster Audiovisual Madrid
REFRESH-INTERVAL;VALUE=DURATION:PT1H
X-Robots-Tag:noindex
X-PUBLISHED-TTL:PT1H
BEGIN:VTIMEZONE
TZID:Europe/Madrid
BEGIN:DAYLIGHT
TZOFFSETFROM:+0100
TZOFFSETTO:+0200
TZNAME:CEST
DTSTART:20240331T010000
END:DAYLIGHT
BEGIN:STANDARD
TZOFFSETFROM:+0200
TZOFFSETTO:+0100
TZNAME:CET
DTSTART:20241027T010000
END:STANDARD
BEGIN:DAYLIGHT
TZOFFSETFROM:+0100
TZOFFSETTO:+0200
TZNAME:CEST
DTSTART:20250330T010000
END:DAYLIGHT
BEGIN:STANDARD
TZOFFSETFROM:+0200
TZOFFSETTO:+0100
TZNAME:CET
DTSTART:20251026T010000
END:STANDARD
BEGIN:DAYLIGHT
TZOFFSETFROM:+0100
TZOFFSETTO:+0200
TZNAME:CEST
DTSTART:20260329T010000
END:DAYLIGHT
BEGIN:STANDARD
TZOFFSETFROM:+0200
TZOFFSETTO:+0100
TZNAME:CET
DTSTART:20261025T010000
END:STANDARD
END:VTIMEZONE
BEGIN:VEVENT
DTSTART;VALUE=DATE:20250915
DTEND;VALUE=DATE:20250922
DTSTAMP:20260421T123549
CREATED:20251020T120346Z
LAST-MODIFIED:20251020T120346Z
UID:2022-1757894400-1758499199@observatorio.clusteraudiovisualmadrid.es
SUMMARY:34º edición del Festival de Cine de Madrid-PNR 2025
DESCRIPTION:El Festival de Cine de Madrid FCM-PNR es ya un evento propio de la ciudad de Madrid. Es uno de los certámenes cinematográficos más antiguos de la capital y desde su primera edición en 1991 está consolidado como un escaparate fundamental para producciones emergentes\, a las que da cobijo y promoción\, aglutinando la mejor selección del diverso cine nacional que no se comercializa en nuestro país. (Fuente: Festival de Cine de Madrid FCM-PNR)
URL:https://observatorio.clusteraudiovisualmadrid.es/en/evento/34o-edicion-del-festival-de-cine-de-madrid-pnr-2025/
LOCATION:Madrid\, Madrid\, Madrid\, Spain
CATEGORIES:Festival
ATTACH;FMTTYPE=image/webp:https://observatorio.clusteraudiovisualmadrid.es/wp-content/uploads/2025/10/pnr-2025.webp
END:VEVENT
END:VCALENDAR