BEGIN:VCALENDAR
VERSION:2.0
PRODID:-//Observatorio Clúster Audiovisual Madrid - ECPv6.15.18//NONSGML v1.0//EN
CALSCALE:GREGORIAN
METHOD:PUBLISH
X-WR-CALNAME:Observatorio Clúster Audiovisual Madrid
X-ORIGINAL-URL:https://observatorio.clusteraudiovisualmadrid.es/en/
X-WR-CALDESC:Events for Observatorio Clúster Audiovisual Madrid
REFRESH-INTERVAL;VALUE=DURATION:PT1H
X-Robots-Tag:noindex
X-PUBLISHED-TTL:PT1H
BEGIN:VTIMEZONE
TZID:Europe/Madrid
BEGIN:DAYLIGHT
TZOFFSETFROM:+0100
TZOFFSETTO:+0200
TZNAME:CEST
DTSTART:20250330T010000
END:DAYLIGHT
BEGIN:STANDARD
TZOFFSETFROM:+0200
TZOFFSETTO:+0100
TZNAME:CET
DTSTART:20251026T010000
END:STANDARD
BEGIN:DAYLIGHT
TZOFFSETFROM:+0100
TZOFFSETTO:+0200
TZNAME:CEST
DTSTART:20260329T010000
END:DAYLIGHT
BEGIN:STANDARD
TZOFFSETFROM:+0200
TZOFFSETTO:+0100
TZNAME:CET
DTSTART:20261025T010000
END:STANDARD
BEGIN:DAYLIGHT
TZOFFSETFROM:+0100
TZOFFSETTO:+0200
TZNAME:CEST
DTSTART:20270328T010000
END:DAYLIGHT
BEGIN:STANDARD
TZOFFSETFROM:+0200
TZOFFSETTO:+0100
TZNAME:CET
DTSTART:20271031T010000
END:STANDARD
END:VTIMEZONE
BEGIN:VEVENT
DTSTART;VALUE=DATE:20260323
DTEND;VALUE=DATE:20260329
DTSTAMP:20260421T150321
CREATED:20250915T111801Z
LAST-MODIFIED:20250915T111801Z
UID:676-1774224000-1774742399@observatorio.clusteraudiovisualmadrid.es
SUMMARY:7ª edición Madrid Sci-Fi Film Festival 2026
DESCRIPTION:Madrid Sci-Fi Film Festival celebra un concurso anual con los mejores cortometrajes de ciencia ficción de todo el mundo. (Fuente: Madrid Sci-Fi Film Festival )
URL:https://observatorio.clusteraudiovisualmadrid.es/en/evento/7a-edicion-madrid-sci-fi-film-festival-2026/
LOCATION:Madrid\, Madrid\, Madrid\, Spain
CATEGORIES:Festival
ATTACH;FMTTYPE=image/jpeg:https://observatorio.clusteraudiovisualmadrid.es/wp-content/uploads/2025/09/logo-madrid-scifi-2025.jpg
END:VEVENT
END:VCALENDAR