BEGIN:VCALENDAR
VERSION:2.0
PRODID:-//Observatorio Clúster Audiovisual Madrid - ECPv6.15.18//NONSGML v1.0//EN
CALSCALE:GREGORIAN
METHOD:PUBLISH
X-WR-CALNAME:Observatorio Clúster Audiovisual Madrid
X-ORIGINAL-URL:https://observatorio.clusteraudiovisualmadrid.es/en/
X-WR-CALDESC:Events for Observatorio Clúster Audiovisual Madrid
REFRESH-INTERVAL;VALUE=DURATION:PT1H
X-Robots-Tag:noindex
X-PUBLISHED-TTL:PT1H
BEGIN:VTIMEZONE
TZID:Europe/Madrid
BEGIN:DAYLIGHT
TZOFFSETFROM:+0100
TZOFFSETTO:+0200
TZNAME:CEST
DTSTART:20230326T010000
END:DAYLIGHT
BEGIN:STANDARD
TZOFFSETFROM:+0200
TZOFFSETTO:+0100
TZNAME:CET
DTSTART:20231029T010000
END:STANDARD
BEGIN:DAYLIGHT
TZOFFSETFROM:+0100
TZOFFSETTO:+0200
TZNAME:CEST
DTSTART:20240331T010000
END:DAYLIGHT
BEGIN:STANDARD
TZOFFSETFROM:+0200
TZOFFSETTO:+0100
TZNAME:CET
DTSTART:20241027T010000
END:STANDARD
BEGIN:DAYLIGHT
TZOFFSETFROM:+0100
TZOFFSETTO:+0200
TZNAME:CEST
DTSTART:20250330T010000
END:DAYLIGHT
BEGIN:STANDARD
TZOFFSETFROM:+0200
TZOFFSETTO:+0100
TZNAME:CET
DTSTART:20251026T010000
END:STANDARD
END:VTIMEZONE
BEGIN:VEVENT
DTSTART;VALUE=DATE:20241202
DTEND;VALUE=DATE:20241210
DTSTAMP:20260423T192834
CREATED:20251021T020914Z
LAST-MODIFIED:20251021T020914Z
UID:2165-1733097600-1733788799@observatorio.clusteraudiovisualmadrid.es
SUMMARY:VIII edición SMIF - Spain Moving Images Festival
DESCRIPTION:Festival de imagen en movimiento asiático en Madrid. SMIF – Spain Moving Images Festival es el único festival de creación audiovisual\, cine y videoarte asiático con sede en Madrid. Especialmente dedicado a los cineastas\, artistas y movimientos creativos emergentes de Asia\, con un ojo puesto siempre en clásicos y pioneros\, se plantea como plataforma ideal para dar a conocer las obras y creadores audiovisuales contemporáneos más relevantes y vanguardistas de Japón\, Talinadia\, India o China. (Fuente: SMIF)
URL:https://observatorio.clusteraudiovisualmadrid.es/en/evento/viii-edicion-smif-spain-moving-images-festival/
LOCATION:Madrid\, Madrid\, Madrid\, Spain
CATEGORIES:Muestra
ATTACH;FMTTYPE=image/jpeg:https://observatorio.clusteraudiovisualmadrid.es/wp-content/uploads/2025/10/smif-2024.jpg
END:VEVENT
END:VCALENDAR