BEGIN:VCALENDAR
VERSION:2.0
PRODID:-//Observatorio Clúster Audiovisual Madrid - ECPv6.15.18//NONSGML v1.0//EN
CALSCALE:GREGORIAN
METHOD:PUBLISH
X-WR-CALNAME:Observatorio Clúster Audiovisual Madrid
X-ORIGINAL-URL:https://observatorio.clusteraudiovisualmadrid.es/en/
X-WR-CALDESC:Events for Observatorio Clúster Audiovisual Madrid
REFRESH-INTERVAL;VALUE=DURATION:PT1H
X-Robots-Tag:noindex
X-PUBLISHED-TTL:PT1H
BEGIN:VTIMEZONE
TZID:Europe/Madrid
BEGIN:DAYLIGHT
TZOFFSETFROM:+0100
TZOFFSETTO:+0200
TZNAME:CEST
DTSTART:20240331T010000
END:DAYLIGHT
BEGIN:STANDARD
TZOFFSETFROM:+0200
TZOFFSETTO:+0100
TZNAME:CET
DTSTART:20241027T010000
END:STANDARD
BEGIN:DAYLIGHT
TZOFFSETFROM:+0100
TZOFFSETTO:+0200
TZNAME:CEST
DTSTART:20250330T010000
END:DAYLIGHT
BEGIN:STANDARD
TZOFFSETFROM:+0200
TZOFFSETTO:+0100
TZNAME:CET
DTSTART:20251026T010000
END:STANDARD
BEGIN:DAYLIGHT
TZOFFSETFROM:+0100
TZOFFSETTO:+0200
TZNAME:CEST
DTSTART:20260329T010000
END:DAYLIGHT
BEGIN:STANDARD
TZOFFSETFROM:+0200
TZOFFSETTO:+0100
TZNAME:CET
DTSTART:20261025T010000
END:STANDARD
END:VTIMEZONE
BEGIN:VEVENT
DTSTART;VALUE=DATE:20250421
DTEND;VALUE=DATE:20250429
DTSTAMP:20260421T110327
CREATED:20251021T102932Z
LAST-MODIFIED:20251021T104028Z
UID:2269-1745193600-1745884799@observatorio.clusteraudiovisualmadrid.es
SUMMARY:XIV Muestra de cine lésbico de Madrid 2025
DESCRIPTION:Madrid se convierte en la capital del cine lésbico a través de una gran selección de piezas audiovisuales. Desde sus inicios\, la Muestra de Cine Lésbico de Madrid ha sido un referente en la visibilización de narrativas queer\, con un equipo de programación compuesto íntegramente por mujeres y personas no binarias. Su objetivo es fomentar espacios seguros\, fortalecer el imaginario colectivo y ofrecer referentes positivos para la comunidad LGBTIAQ+. (Fuente: Muestra de Cine Lésbico de Madrid)
URL:https://observatorio.clusteraudiovisualmadrid.es/en/evento/xiv-muestra-de-cine-lesbico-de-madrid-2025/
LOCATION:Madrid\, Madrid\, Madrid\, Spain
CATEGORIES:Muestra
ATTACH;FMTTYPE=image/jpeg:https://observatorio.clusteraudiovisualmadrid.es/wp-content/uploads/2025/10/muestracine-lesbico-2025.jpg
END:VEVENT
END:VCALENDAR