BEGIN:VCALENDAR
VERSION:2.0
PRODID:-//Observatorio Clúster Audiovisual Madrid - ECPv6.15.18//NONSGML v1.0//EN
CALSCALE:GREGORIAN
METHOD:PUBLISH
X-WR-CALNAME:Observatorio Clúster Audiovisual Madrid
X-ORIGINAL-URL:https://observatorio.clusteraudiovisualmadrid.es/en/
X-WR-CALDESC:Events for Observatorio Clúster Audiovisual Madrid
REFRESH-INTERVAL;VALUE=DURATION:PT1H
X-Robots-Tag:noindex
X-PUBLISHED-TTL:PT1H
BEGIN:VTIMEZONE
TZID:Europe/Madrid
BEGIN:DAYLIGHT
TZOFFSETFROM:+0100
TZOFFSETTO:+0200
TZNAME:CEST
DTSTART:20240331T010000
END:DAYLIGHT
BEGIN:STANDARD
TZOFFSETFROM:+0200
TZOFFSETTO:+0100
TZNAME:CET
DTSTART:20241027T010000
END:STANDARD
BEGIN:DAYLIGHT
TZOFFSETFROM:+0100
TZOFFSETTO:+0200
TZNAME:CEST
DTSTART:20250330T010000
END:DAYLIGHT
BEGIN:STANDARD
TZOFFSETFROM:+0200
TZOFFSETTO:+0100
TZNAME:CET
DTSTART:20251026T010000
END:STANDARD
BEGIN:DAYLIGHT
TZOFFSETFROM:+0100
TZOFFSETTO:+0200
TZNAME:CEST
DTSTART:20260329T010000
END:DAYLIGHT
BEGIN:STANDARD
TZOFFSETFROM:+0200
TZOFFSETTO:+0100
TZNAME:CET
DTSTART:20261025T010000
END:STANDARD
END:VTIMEZONE
BEGIN:VEVENT
DTSTART;VALUE=DATE:20250324
DTEND;VALUE=DATE:20250325
DTSTAMP:20260422T035925
CREATED:20251020T135730Z
LAST-MODIFIED:20251020T135730Z
UID:2054-1742774400-1742860799@observatorio.clusteraudiovisualmadrid.es
SUMMARY:XV ediciónSmile Festival - Festival Internacional de Publicidad y Humor 2025
DESCRIPTION:El Festival Internacional de la Publicidad y el Humor es un acto de premiación del sector de la publicidad que reúne cada año a los creativos más destacados y pretende poner en relieve el valor de las mejores campañas con ese toque de humor único.\nEl valor del humor en la publicidad es muy cotizado\, usado de la forma adecuada\, el humor sirve para llamar la atención de los consumidores\, de ahí que sea uno de los recursos creativos más universales en la publicidad. (Fuente: Smile Festival)
URL:https://observatorio.clusteraudiovisualmadrid.es/en/evento/xv-edicionsmile-festival-festival-internacional-de-publicidad-y-humor-2025/
LOCATION:Madrid\, Madrid\, Madrid\, Spain
CATEGORIES:Festival
ATTACH;FMTTYPE=image/jpeg:https://observatorio.clusteraudiovisualmadrid.es/wp-content/uploads/2025/10/logo-smile-2025.jpg
END:VEVENT
END:VCALENDAR