BEGIN:VCALENDAR
VERSION:2.0
PRODID:-//Observatorio Clúster Audiovisual Madrid - ECPv6.15.18//NONSGML v1.0//EN
CALSCALE:GREGORIAN
METHOD:PUBLISH
X-WR-CALNAME:Observatorio Clúster Audiovisual Madrid
X-ORIGINAL-URL:https://observatorio.clusteraudiovisualmadrid.es
X-WR-CALDESC:Eventos para Observatorio Clúster Audiovisual Madrid
REFRESH-INTERVAL;VALUE=DURATION:PT1H
X-Robots-Tag:noindex
X-PUBLISHED-TTL:PT1H
BEGIN:VTIMEZONE
TZID:Europe/Madrid
BEGIN:DAYLIGHT
TZOFFSETFROM:+0100
TZOFFSETTO:+0200
TZNAME:CEST
DTSTART:20240331T010000
END:DAYLIGHT
BEGIN:STANDARD
TZOFFSETFROM:+0200
TZOFFSETTO:+0100
TZNAME:CET
DTSTART:20241027T010000
END:STANDARD
BEGIN:DAYLIGHT
TZOFFSETFROM:+0100
TZOFFSETTO:+0200
TZNAME:CEST
DTSTART:20250330T010000
END:DAYLIGHT
BEGIN:STANDARD
TZOFFSETFROM:+0200
TZOFFSETTO:+0100
TZNAME:CET
DTSTART:20251026T010000
END:STANDARD
BEGIN:DAYLIGHT
TZOFFSETFROM:+0100
TZOFFSETTO:+0200
TZNAME:CEST
DTSTART:20260329T010000
END:DAYLIGHT
BEGIN:STANDARD
TZOFFSETFROM:+0200
TZOFFSETTO:+0100
TZNAME:CET
DTSTART:20261025T010000
END:STANDARD
END:VTIMEZONE
BEGIN:VEVENT
DTSTART;VALUE=DATE:20250115
DTEND;VALUE=DATE:20250117
DTSTAMP:20260423T191649
CREATED:20250916T121142Z
LAST-MODIFIED:20250916T121142Z
UID:639-1736899200-1737071999@observatorio.clusteraudiovisualmadrid.es
SUMMARY:7ª edición Premios CYGNUS de Cine Solidario y de Valores 2025
DESCRIPTION:Premios del Encuentro de Cine Solidario y de Valores. La Universidad de Alcalá\, institución española de prestigio mundial y de contrastado compromiso y responsabilidad social\, y el amplio colectivo de profesionales del cine que representa ACIVAS\, Asociación de Productores y Distribuidores de Cine de Valores y Solidario se unen para crear los Encuentros de Cine Solidario y de Valores. Con periodicidad anual estos encuentros quieren dar a conocer el trabajo de las personas que se dedican a la industria del cine y la televisión; y con la entrega de los Premios CYGNUS\, se pretende reconocer y señalar a aquellos que más se han distinguido en ese empeño tan admirable. (Fuente: CIMUART – Premios CYGNUS)
URL:https://observatorio.clusteraudiovisualmadrid.es/evento/7a-edicion-premios-cygnus-de-cine-solidario-y-de-valores-2025/
LOCATION:Alcalá de Henares\, Alcalá de Henares\, Spain
CATEGORIES:Premios
ATTACH;FMTTYPE=image/webp:https://observatorio.clusteraudiovisualmadrid.es/wp-content/uploads/2025/09/premios-cygnus-2025.webp
END:VEVENT
END:VCALENDAR