BEGIN:VCALENDAR
VERSION:2.0
PRODID:-//Observatorio Clúster Audiovisual Madrid - ECPv6.15.18//NONSGML v1.0//EN
CALSCALE:GREGORIAN
METHOD:PUBLISH
X-WR-CALNAME:Observatorio Clúster Audiovisual Madrid
X-ORIGINAL-URL:https://observatorio.clusteraudiovisualmadrid.es
X-WR-CALDESC:Eventos para Observatorio Clúster Audiovisual Madrid
REFRESH-INTERVAL;VALUE=DURATION:PT1H
X-Robots-Tag:noindex
X-PUBLISHED-TTL:PT1H
BEGIN:VTIMEZONE
TZID:Europe/Madrid
BEGIN:DAYLIGHT
TZOFFSETFROM:+0100
TZOFFSETTO:+0200
TZNAME:CEST
DTSTART:20240331T010000
END:DAYLIGHT
BEGIN:STANDARD
TZOFFSETFROM:+0200
TZOFFSETTO:+0100
TZNAME:CET
DTSTART:20241027T010000
END:STANDARD
BEGIN:DAYLIGHT
TZOFFSETFROM:+0100
TZOFFSETTO:+0200
TZNAME:CEST
DTSTART:20250330T010000
END:DAYLIGHT
BEGIN:STANDARD
TZOFFSETFROM:+0200
TZOFFSETTO:+0100
TZNAME:CET
DTSTART:20251026T010000
END:STANDARD
BEGIN:DAYLIGHT
TZOFFSETFROM:+0100
TZOFFSETTO:+0200
TZNAME:CEST
DTSTART:20260329T010000
END:DAYLIGHT
BEGIN:STANDARD
TZOFFSETFROM:+0200
TZOFFSETTO:+0100
TZNAME:CET
DTSTART:20261025T010000
END:STANDARD
END:VTIMEZONE
BEGIN:VEVENT
DTSTART;VALUE=DATE:20250410
DTEND;VALUE=DATE:20250412
DTSTAMP:20260421T142114
CREATED:20251021T092452Z
LAST-MODIFIED:20251021T092452Z
UID:2224-1744243200-1744415999@observatorio.clusteraudiovisualmadrid.es
SUMMARY:Foro Industria Madrid. Jornadas de matchmaking 2025
DESCRIPTION:Un proyecto de fomento de la industria cinematográfica que consiste en dos jornadas de industria y networking que tendrán lugar en la Sala Alcalá 31 de la Comunidad de Madrid. Los proyectos participantes tendrán la oportunidad de ser presentados ante programadores de festivales\, distribuidores\, productoras\, plataformas y agentes de ventas. (Fuente. RAMPA)
URL:https://observatorio.clusteraudiovisualmadrid.es/evento/foro-industria-madrid-jornadas-de-matchmaking-2025/
LOCATION:Madrid\, Madrid\, Madrid\, Spain
CATEGORIES:Foro
ATTACH;FMTTYPE=image/png:https://observatorio.clusteraudiovisualmadrid.es/wp-content/uploads/2025/10/foro-industria-2025.png
END:VEVENT
END:VCALENDAR