BEGIN:VCALENDAR
VERSION:2.0
PRODID:-//Observatorio Clúster Audiovisual Madrid - ECPv6.15.18//NONSGML v1.0//EN
CALSCALE:GREGORIAN
METHOD:PUBLISH
X-WR-CALNAME:Observatorio Clúster Audiovisual Madrid
X-ORIGINAL-URL:https://observatorio.clusteraudiovisualmadrid.es
X-WR-CALDESC:Eventos para Observatorio Clúster Audiovisual Madrid
REFRESH-INTERVAL;VALUE=DURATION:PT1H
X-Robots-Tag:noindex
X-PUBLISHED-TTL:PT1H
BEGIN:VTIMEZONE
TZID:Europe/Madrid
BEGIN:DAYLIGHT
TZOFFSETFROM:+0100
TZOFFSETTO:+0200
TZNAME:CEST
DTSTART:20240331T010000
END:DAYLIGHT
BEGIN:STANDARD
TZOFFSETFROM:+0200
TZOFFSETTO:+0100
TZNAME:CET
DTSTART:20241027T010000
END:STANDARD
BEGIN:DAYLIGHT
TZOFFSETFROM:+0100
TZOFFSETTO:+0200
TZNAME:CEST
DTSTART:20250330T010000
END:DAYLIGHT
BEGIN:STANDARD
TZOFFSETFROM:+0200
TZOFFSETTO:+0100
TZNAME:CET
DTSTART:20251026T010000
END:STANDARD
BEGIN:DAYLIGHT
TZOFFSETFROM:+0100
TZOFFSETTO:+0200
TZNAME:CEST
DTSTART:20260329T010000
END:DAYLIGHT
BEGIN:STANDARD
TZOFFSETFROM:+0200
TZOFFSETTO:+0100
TZNAME:CET
DTSTART:20261025T010000
END:STANDARD
END:VTIMEZONE
BEGIN:VEVENT
DTSTART;VALUE=DATE:20250330
DTEND;VALUE=DATE:20250404
DTSTAMP:20260421T213348
CREATED:20251021T130952Z
LAST-MODIFIED:20251021T130952Z
UID:2314-1743292800-1743724799@observatorio.clusteraudiovisualmadrid.es
SUMMARY:I Pequecinema. Festival de cine infantil de Tres Cantos  2025
DESCRIPTION:Parte del Festival Itinerante Pequecinema. Pequecinema es un festival de cine infantil con sesiones que harán volar la imaginación de los más pequeños de la casa. Organizado por CortoEspaña\, productora con más de 15 años de experiencia\, las programaciones de Pequecinema recorren el país en este festival itinerante destinado a las y los amantes del cine de edad más temprana. Compuesto por sesiones que recopilan los mejores cortometrajes infantiles\, Pequecinema comprende programaciones de cortometrajes para público de entre 2 y 12 años edad. Las sesiones están compuestas por una variada selección que promociona y difunde la cultura a la vez que entretiene y educa a los más pequeños. (Fuente: Pequecinema)
URL:https://observatorio.clusteraudiovisualmadrid.es/evento/i-pequecinema-festival-de-cine-infantil-de-tres-cantos-2025/
LOCATION:Tres Cantos\, Tres Cantos\, Comunidad de Madrid\, Spain
CATEGORIES:Festival
ATTACH;FMTTYPE=image/jpeg:https://observatorio.clusteraudiovisualmadrid.es/wp-content/uploads/2025/10/pequecinema-2025.jpg
ORGANIZER;CN="Ayuntamiento de Tres Cantos%2C Concejal%C3%ADa de Cultura%2C en colaboraci%C3%B3n con la de Educaci%C3%B3n%2C y Pequecinema (CortoEspa%C3%B1a)":MAILTO:info@patiodeluces.es
END:VEVENT
END:VCALENDAR