BEGIN:VCALENDAR
VERSION:2.0
PRODID:-//Observatorio Clúster Audiovisual Madrid - ECPv6.15.18//NONSGML v1.0//EN
CALSCALE:GREGORIAN
METHOD:PUBLISH
X-WR-CALNAME:Observatorio Clúster Audiovisual Madrid
X-ORIGINAL-URL:https://observatorio.clusteraudiovisualmadrid.es
X-WR-CALDESC:Eventos para Observatorio Clúster Audiovisual Madrid
REFRESH-INTERVAL;VALUE=DURATION:PT1H
X-Robots-Tag:noindex
X-PUBLISHED-TTL:PT1H
BEGIN:VTIMEZONE
TZID:Europe/Madrid
BEGIN:DAYLIGHT
TZOFFSETFROM:+0100
TZOFFSETTO:+0200
TZNAME:CEST
DTSTART:20240331T010000
END:DAYLIGHT
BEGIN:STANDARD
TZOFFSETFROM:+0200
TZOFFSETTO:+0100
TZNAME:CET
DTSTART:20241027T010000
END:STANDARD
BEGIN:DAYLIGHT
TZOFFSETFROM:+0100
TZOFFSETTO:+0200
TZNAME:CEST
DTSTART:20250330T010000
END:DAYLIGHT
BEGIN:STANDARD
TZOFFSETFROM:+0200
TZOFFSETTO:+0100
TZNAME:CET
DTSTART:20251026T010000
END:STANDARD
BEGIN:DAYLIGHT
TZOFFSETFROM:+0100
TZOFFSETTO:+0200
TZNAME:CEST
DTSTART:20260329T010000
END:DAYLIGHT
BEGIN:STANDARD
TZOFFSETFROM:+0200
TZOFFSETTO:+0100
TZNAME:CET
DTSTART:20261025T010000
END:STANDARD
END:VTIMEZONE
BEGIN:VEVENT
DTSTART;VALUE=DATE:20250227
DTEND;VALUE=DATE:20250301
DTSTAMP:20260422T194021
CREATED:20251021T110034Z
LAST-MODIFIED:20251021T110034Z
UID:2277-1740614400-1740787199@observatorio.clusteraudiovisualmadrid.es
SUMMARY:Next Lab Generation 2025
DESCRIPTION:Una plataforma para experimentar e incorporar nuevas herramientas tecnológicas en animación\, realidad virtual y videojuegos\, a través de eventos\, formación\, e investigación. Next Lab Generation\, una cita clave para el sector de la animación que reunió en su quinta edición a más de 170 profesionales. El evento contó con conferencias en torno a la innovación y nuevas tecnologías en el mundo de la animación y los videojuegos\, espacio para el networking y el pitch de los proyectos finalistas. (Fuente: Next Lab)
URL:https://observatorio.clusteraudiovisualmadrid.es/evento/next-lab-generation-2025/
LOCATION:Madrid\, Madrid\, Madrid\, Spain
CATEGORIES:Evento
ATTACH;FMTTYPE=image/jpeg:https://observatorio.clusteraudiovisualmadrid.es/wp-content/uploads/2025/10/logo-next-lab-g-2025.jpg
END:VEVENT
END:VCALENDAR