BEGIN:VCALENDAR
VERSION:2.0
PRODID:-//Observatorio Clúster Audiovisual Madrid - ECPv6.15.18//NONSGML v1.0//EN
CALSCALE:GREGORIAN
METHOD:PUBLISH
X-WR-CALNAME:Observatorio Clúster Audiovisual Madrid
X-ORIGINAL-URL:https://observatorio.clusteraudiovisualmadrid.es
X-WR-CALDESC:Eventos para Observatorio Clúster Audiovisual Madrid
REFRESH-INTERVAL;VALUE=DURATION:PT1H
X-Robots-Tag:noindex
X-PUBLISHED-TTL:PT1H
BEGIN:VTIMEZONE
TZID:Europe/Madrid
BEGIN:DAYLIGHT
TZOFFSETFROM:+0100
TZOFFSETTO:+0200
TZNAME:CEST
DTSTART:20230326T010000
END:DAYLIGHT
BEGIN:STANDARD
TZOFFSETFROM:+0200
TZOFFSETTO:+0100
TZNAME:CET
DTSTART:20231029T010000
END:STANDARD
BEGIN:DAYLIGHT
TZOFFSETFROM:+0100
TZOFFSETTO:+0200
TZNAME:CEST
DTSTART:20240331T010000
END:DAYLIGHT
BEGIN:STANDARD
TZOFFSETFROM:+0200
TZOFFSETTO:+0100
TZNAME:CET
DTSTART:20241027T010000
END:STANDARD
BEGIN:DAYLIGHT
TZOFFSETFROM:+0100
TZOFFSETTO:+0200
TZNAME:CEST
DTSTART:20250330T010000
END:DAYLIGHT
BEGIN:STANDARD
TZOFFSETFROM:+0200
TZOFFSETTO:+0100
TZNAME:CET
DTSTART:20251026T010000
END:STANDARD
END:VTIMEZONE
BEGIN:VEVENT
DTSTART;VALUE=DATE:20240409
DTEND;VALUE=DATE:20240410
DTSTAMP:20260424T015959
CREATED:20251020T105607Z
LAST-MODIFIED:20251028T024437Z
UID:1995-1712620800-1712707199@observatorio.clusteraudiovisualmadrid.es
SUMMARY:Premio Segundo de Chomón 2024
DESCRIPTION:Otorgado por Academia de las Artes y las Ciencias Cinematográficas de España\, para reconocer el mérito de las aportaciones técnicas que han redundado en beneficio de la industria cinematográfica. (Fuente: Academia de las Artes y las Ciencias Cinematográficas de España)
URL:https://observatorio.clusteraudiovisualmadrid.es/evento/premio-segundo-de-chomon-2024/
LOCATION:Madrid\, Madrid\, Madrid\, Spain
CATEGORIES:Premios
ATTACH;FMTTYPE=image/jpeg:https://observatorio.clusteraudiovisualmadrid.es/wp-content/uploads/2025/10/logo-academia-2025.jpg
END:VEVENT
END:VCALENDAR