BEGIN:VCALENDAR
VERSION:2.0
PRODID:-//Observatorio Clúster Audiovisual Madrid - ECPv6.15.18//NONSGML v1.0//EN
CALSCALE:GREGORIAN
METHOD:PUBLISH
X-WR-CALNAME:Observatorio Clúster Audiovisual Madrid
X-ORIGINAL-URL:https://observatorio.clusteraudiovisualmadrid.es
X-WR-CALDESC:Eventos para Observatorio Clúster Audiovisual Madrid
REFRESH-INTERVAL;VALUE=DURATION:PT1H
X-Robots-Tag:noindex
X-PUBLISHED-TTL:PT1H
BEGIN:VTIMEZONE
TZID:Europe/Madrid
BEGIN:DAYLIGHT
TZOFFSETFROM:+0100
TZOFFSETTO:+0200
TZNAME:CEST
DTSTART:20230326T010000
END:DAYLIGHT
BEGIN:STANDARD
TZOFFSETFROM:+0200
TZOFFSETTO:+0100
TZNAME:CET
DTSTART:20231029T010000
END:STANDARD
BEGIN:DAYLIGHT
TZOFFSETFROM:+0100
TZOFFSETTO:+0200
TZNAME:CEST
DTSTART:20240331T010000
END:DAYLIGHT
BEGIN:STANDARD
TZOFFSETFROM:+0200
TZOFFSETTO:+0100
TZNAME:CET
DTSTART:20241027T010000
END:STANDARD
BEGIN:DAYLIGHT
TZOFFSETFROM:+0100
TZOFFSETTO:+0200
TZNAME:CEST
DTSTART:20250330T010000
END:DAYLIGHT
BEGIN:STANDARD
TZOFFSETFROM:+0200
TZOFFSETTO:+0100
TZNAME:CET
DTSTART:20251026T010000
END:STANDARD
BEGIN:DAYLIGHT
TZOFFSETFROM:+0100
TZOFFSETTO:+0200
TZNAME:CEST
DTSTART:20260329T010000
END:DAYLIGHT
BEGIN:STANDARD
TZOFFSETFROM:+0200
TZOFFSETTO:+0100
TZNAME:CET
DTSTART:20261025T010000
END:STANDARD
END:VTIMEZONE
BEGIN:VEVENT
DTSTART;VALUE=DATE:20241108
DTEND;VALUE=DATE:20250510
DTSTAMP:20260424T000343
CREATED:20251021T135221Z
LAST-MODIFIED:20251021T135221Z
UID:2323-1731024000-1746835199@observatorio.clusteraudiovisualmadrid.es
SUMMARY:Sanse\, Cortos en Abierto 2024-2025
DESCRIPTION:El Cortometrajista\, con el apoyo de la Delegación de Cultura del Ayuntamiento de San Sebastián de los Reyes\, invita a todos aquellos que deseen participar en el certamen de cortometrajes\, para la temporada 2025-2026 de SANSE CORTOS EN ABIERTO.\nDe todas las sesiones de la temporada\, seis constituyen el certamen\, que consta de cinco sesiones clasificatorias y de la sesión / gala fin de temporada y de entrega de premios. El número de sesiones queda condicionado a la disponibilidad del espacio donde se realizan las proyecciones. Además de las indicadas pueden programarse otras sesiones como parte de eventos específicos\, con la finalidad de difundir el mayor número de cortometrajes posibles. (Fuente: bases Sanse\, Cortos en Abierto)
URL:https://observatorio.clusteraudiovisualmadrid.es/evento/sanse-cortos-en-abierto-2024-2025/
LOCATION:San Sebastián de los Reyes\, San Sebastián de los Reyes\, Spain
CATEGORIES:Festival
ATTACH;FMTTYPE=image/jpeg:https://observatorio.clusteraudiovisualmadrid.es/wp-content/uploads/2025/10/sanse-ena-2025.jpg
ORGANIZER;CN="El Cortometrajista%2C asociaci%C3%B3n nacida de la Agrupaci%C3%B3n Fotogr%C3%A1fica San Sebasti%C3%A1n de los Reyes (AFSSR)%2C con el apoyo de la Delegaci%C3%B3n de Cultura del Ayuntamiento de San Sebasti%C3%A1n de los Reyes.":MAILTO:elcortometrajista@gmail.com
END:VEVENT
END:VCALENDAR