BEGIN:VCALENDAR
VERSION:2.0
PRODID:-//Observatorio Clúster Audiovisual Madrid - ECPv6.15.18//NONSGML v1.0//EN
CALSCALE:GREGORIAN
METHOD:PUBLISH
X-WR-CALNAME:Observatorio Clúster Audiovisual Madrid
X-ORIGINAL-URL:https://observatorio.clusteraudiovisualmadrid.es
X-WR-CALDESC:Eventos para Observatorio Clúster Audiovisual Madrid
REFRESH-INTERVAL;VALUE=DURATION:PT1H
X-Robots-Tag:noindex
X-PUBLISHED-TTL:PT1H
BEGIN:VTIMEZONE
TZID:Europe/Madrid
BEGIN:DAYLIGHT
TZOFFSETFROM:+0100
TZOFFSETTO:+0200
TZNAME:CEST
DTSTART:20240331T010000
END:DAYLIGHT
BEGIN:STANDARD
TZOFFSETFROM:+0200
TZOFFSETTO:+0100
TZNAME:CET
DTSTART:20241027T010000
END:STANDARD
BEGIN:DAYLIGHT
TZOFFSETFROM:+0100
TZOFFSETTO:+0200
TZNAME:CEST
DTSTART:20250330T010000
END:DAYLIGHT
BEGIN:STANDARD
TZOFFSETFROM:+0200
TZOFFSETTO:+0100
TZNAME:CET
DTSTART:20251026T010000
END:STANDARD
BEGIN:DAYLIGHT
TZOFFSETFROM:+0100
TZOFFSETTO:+0200
TZNAME:CEST
DTSTART:20260329T010000
END:DAYLIGHT
BEGIN:STANDARD
TZOFFSETFROM:+0200
TZOFFSETTO:+0100
TZNAME:CET
DTSTART:20261025T010000
END:STANDARD
END:VTIMEZONE
BEGIN:VEVENT
DTSTART;VALUE=DATE:20251018
DTEND;VALUE=DATE:20251026
DTSTAMP:20260421T140254
CREATED:20250915T184651Z
LAST-MODIFIED:20250915T184651Z
UID:650-1760745600-1761436799@observatorio.clusteraudiovisualmadrid.es
SUMMARY:VI Edición del Festival de cortometrajes Daganzo Trascámara 2025
DESCRIPTION:Daganzo Trascámara es un festival de cine que fija su atención en aquellos que no conocemos\, los que no aparecen más que en los títulos de crédito: Los técnicos. El evento toma lugar como eje principal de la semana de cine organizada en el pueblo y que estará llena de actividades culturales. Habrá talleres\, charlas y exposiciones en las que se rendirán homenaje a esta labor tan relevante en el cine. Además\, se lanzará un concurso de cortometrajes en el que se podrá aspirar a ganar en diferentes categorías. La entrega de premios será a manos de profesionales y tendrá un gran valor profesional y de reconocimiento. (Fuente: Daganzo Trascámara)
URL:https://observatorio.clusteraudiovisualmadrid.es/evento/vi-edicion-del-festival-de-cortometrajes-daganzo-trascamara-2025/
LOCATION:Daganzo de Arriba\, Daganzo de Arriba\, Spain
CATEGORIES:Festival
ATTACH;FMTTYPE=image/jpeg:https://observatorio.clusteraudiovisualmadrid.es/wp-content/uploads/2025/09/daganzo-2024.jpg
END:VEVENT
END:VCALENDAR