BEGIN:VCALENDAR
VERSION:2.0
PRODID:-//Observatorio Clúster Audiovisual Madrid - ECPv6.15.18//NONSGML v1.0//EN
CALSCALE:GREGORIAN
METHOD:PUBLISH
X-WR-CALNAME:Observatorio Clúster Audiovisual Madrid
X-ORIGINAL-URL:https://observatorio.clusteraudiovisualmadrid.es
X-WR-CALDESC:Eventos para Observatorio Clúster Audiovisual Madrid
REFRESH-INTERVAL;VALUE=DURATION:PT1H
X-Robots-Tag:noindex
X-PUBLISHED-TTL:PT1H
BEGIN:VTIMEZONE
TZID:Europe/Madrid
BEGIN:DAYLIGHT
TZOFFSETFROM:+0100
TZOFFSETTO:+0200
TZNAME:CEST
DTSTART:20240331T010000
END:DAYLIGHT
BEGIN:STANDARD
TZOFFSETFROM:+0200
TZOFFSETTO:+0100
TZNAME:CET
DTSTART:20241027T010000
END:STANDARD
BEGIN:DAYLIGHT
TZOFFSETFROM:+0100
TZOFFSETTO:+0200
TZNAME:CEST
DTSTART:20250330T010000
END:DAYLIGHT
BEGIN:STANDARD
TZOFFSETFROM:+0200
TZOFFSETTO:+0100
TZNAME:CET
DTSTART:20251026T010000
END:STANDARD
BEGIN:DAYLIGHT
TZOFFSETFROM:+0100
TZOFFSETTO:+0200
TZNAME:CEST
DTSTART:20260329T010000
END:DAYLIGHT
BEGIN:STANDARD
TZOFFSETFROM:+0200
TZOFFSETTO:+0100
TZNAME:CET
DTSTART:20261025T010000
END:STANDARD
END:VTIMEZONE
BEGIN:VEVENT
DTSTART;VALUE=DATE:20250913
DTEND;VALUE=DATE:20250921
DTSTAMP:20260421T123530
CREATED:20251020T161135Z
LAST-MODIFIED:20251020T161135Z
UID:2116-1757721600-1758412799@observatorio.clusteraudiovisualmadrid.es
SUMMARY:VIII edición FICAR - Festival Internacional de Cine de Aranjuez 2025
DESCRIPTION:FICAR – Festival Internacional de Cine de Aranjuez es un espacio cultural consolidado que\, desde hace ocho ediciones\, impulsa el cine como herramienta de transformación social\, con un enfoque claro en la igualdad\, la diversidad y la promoción del talento emergente.\nNacido bajo el lema “Cine por la Igualdad”\, FICAR comenzó visibilizando el trabajo de las mujeres en la industria audiovisual a través de su sección original Dirección en Femenino. En 2025 da un salto internacional abriéndose a obras y cineastas de Iberoamérica\, sin perder su esencia inclusiva y su compromiso con la paridad en todos los niveles: dirección\, programación\, jurado y equipo técnico.\nEl Lab FICAR es el laboratorio de desarrollo de cortometrajes del festival\, enfocado en apoyar proyectos en fase de escritura y preproducción. Con el respaldo de SGAE. (Fuente: FICAR)
URL:https://observatorio.clusteraudiovisualmadrid.es/evento/viii-edicion-ficar-festival-internacional-de-cine-de-aranjuez-2025/
LOCATION:Aranjuez\, Aranjuez\, Spain
CATEGORIES:Festival
ATTACH;FMTTYPE=image/jpeg:https://observatorio.clusteraudiovisualmadrid.es/wp-content/uploads/2025/10/logo-ficar-2025.jpg
END:VEVENT
END:VCALENDAR